BEGIN:VCALENDAR
VERSION:2.0
PRODID:-//Jewish Lawyers Guild - ECPv6.15.20//NONSGML v1.0//EN
CALSCALE:GREGORIAN
METHOD:PUBLISH
X-WR-CALNAME:Jewish Lawyers Guild
X-ORIGINAL-URL:https://jewishlawyersguild.org
X-WR-CALDESC:Events for Jewish Lawyers Guild
REFRESH-INTERVAL;VALUE=DURATION:PT1H
X-Robots-Tag:noindex
X-PUBLISHED-TTL:PT1H
BEGIN:VTIMEZONE
TZID:America/New_York
BEGIN:DAYLIGHT
TZOFFSETFROM:-0500
TZOFFSETTO:-0400
TZNAME:EDT
DTSTART:20200308T070000
END:DAYLIGHT
BEGIN:STANDARD
TZOFFSETFROM:-0400
TZOFFSETTO:-0500
TZNAME:EST
DTSTART:20201101T060000
END:STANDARD
BEGIN:DAYLIGHT
TZOFFSETFROM:-0500
TZOFFSETTO:-0400
TZNAME:EDT
DTSTART:20210314T070000
END:DAYLIGHT
BEGIN:STANDARD
TZOFFSETFROM:-0400
TZOFFSETTO:-0500
TZNAME:EST
DTSTART:20211107T060000
END:STANDARD
BEGIN:DAYLIGHT
TZOFFSETFROM:-0500
TZOFFSETTO:-0400
TZNAME:EDT
DTSTART:20220313T070000
END:DAYLIGHT
BEGIN:STANDARD
TZOFFSETFROM:-0400
TZOFFSETTO:-0500
TZNAME:EST
DTSTART:20221106T060000
END:STANDARD
BEGIN:DAYLIGHT
TZOFFSETFROM:-0500
TZOFFSETTO:-0400
TZNAME:EDT
DTSTART:20230312T070000
END:DAYLIGHT
BEGIN:STANDARD
TZOFFSETFROM:-0400
TZOFFSETTO:-0500
TZNAME:EST
DTSTART:20231105T060000
END:STANDARD
END:VTIMEZONE
BEGIN:VEVENT
DTSTART;TZID=America/New_York:20221207T180000
DTEND;TZID=America/New_York:20221207T200000
DTSTAMP:20260424T112142
CREATED:20221120T011723Z
LAST-MODIFIED:20221123T210925Z
UID:205247-1670436000-1670443200@jewishlawyersguild.org
SUMMARY:Hanukkah Party
DESCRIPTION:The JLG Invites You to Its Hanukkah Party hosted by the Young Lawyers Division\nWe invite you to join JLG Officers\, Directors\, Members\, Young Lawyers\, and friends for an evening of Hanukkah celebration! We’ll be enjoying delicious food\, Latkes\, Hanukkah donuts\, and a full open bar. Kosher appetizers and kosher wine will be available. Please RSVP below to let us know you are coming!\n\n\nSlattery’s Pub\n8 E. 36th St\, New York\, NY 10016\nWednesday\, December 7\, 2022\, 6:00 – 8:00 p.m. \nCost:\n• $30 for all members\n• $40 for non-members\n• Payments will also be taken at the door \n\n\n\n\n\n\n\nHanukkah Party \n(Member Ticket) \n$30.00 \nBuy now \n\n\n\n\n\n\nHanukkah Party \n(Non-Member Ticket) \n$40.00 \nBuy now \n\n\n\n\n\n\nTo join the JLG or renew your membership\, click here. \n\nThe JLG has teamed with OHEL and encourages you to click on its link to to purchase gifts for less fortunate children and adults this Hanukkah.
URL:http://jewishlawyersguild.org/event/hanukkah-party/
LOCATION:NY
END:VEVENT
BEGIN:VEVENT
DTSTART;TZID=America/New_York:20221013T180000
DTEND;TZID=America/New_York:20221013T210000
DTSTAMP:20260424T112142
CREATED:20220916T200848Z
LAST-MODIFIED:20221003T170925Z
UID:205081-1665684000-1665694800@jewishlawyersguild.org
SUMMARY:Succoth Party 
DESCRIPTION:Succoth Party\nThursday\, October 13\, 2022\, 6:00 p.m.\nTribeca Synagogue\n(outside on the plaza)\n49 White Street\, NY\, NY 10013\n\nAdmission is free for all paid members of the JLG.\n\nThe admission fee for non-members is $140. \nTo join the JLG or renew your membership\, click here. \nCLICK HERE to RSVP. \n\nTo become a Sponsor of this event\, click here.
URL:http://jewishlawyersguild.org/event/succoth-party/
LOCATION:Tribeca Synagogue\, 49 White Street \, New York \, NY\, United States
END:VEVENT
BEGIN:VEVENT
DTSTART;VALUE=DATE:20221002
DTEND;VALUE=DATE:20221003
DTSTAMP:20260424T112142
CREATED:20220916T200611Z
LAST-MODIFIED:20220916T200611Z
UID:205075-1664668800-1664755199@jewishlawyersguild.org
SUMMARY:More Than Pink Walk
DESCRIPTION:Join JLG & Team JALBCA\nFor many years JLG has participated with JALBCA in the Race for the Cure.  This year is the MORE THAN PINK WALK in Prospect Park on Sunday\, October 2\, 2022.  Join Past-President Bruce Lederman\, JLG President Ronald J. Katter\, Vice President Alyssa N. Grzesh and Board member Peter Tipograph on Team JALBCA for this year’s Race to support this great cause.  Click here for more information and to register.
URL:http://jewishlawyersguild.org/event/more-than-pink-walk/
LOCATION:NY
END:VEVENT
BEGIN:VEVENT
DTSTART;TZID=America/New_York:20220811T180000
DTEND;TZID=America/New_York:20220811T200000
DTSTAMP:20260424T112142
CREATED:20220721T172026Z
LAST-MODIFIED:20220730T205534Z
UID:204998-1660240800-1660248000@jewishlawyersguild.org
SUMMARY:Young Lawyers Division Cocktail Reception
DESCRIPTION:The JLG Invites You to Its Young Lawyers Division Inaugural Cocktail Reception\nMeet other Young Lawyers\, JLG Officers\, Directors\, members and prospective members at this cocktail reception. Includes appetizers and open bar of Beer\, Wine\, Sangria\, White Claw & House Liquor.  Kosher appetizers and kosher wine will be available. \nGreenwich St. Tavern\n399 Greenwich Street\, New York\, NY\nThursday\, August 11\, 2022\, 6:00 – 8:00 p.m. \nCost:\n• $45 for junior attorneys (admitted for 5 years or less) includes attendance at the reception and yearly membership to the JLG. CLICK HERE to register.\n• $20 for students\, includes attendance at the reception and yearly membership to the JLG. CLICK HERE to register.\n• $25 for all other active JLG members. CLICK HERE to register.\n• Payments will also be taken at the door. \n 
URL:http://jewishlawyersguild.org/event/young-lawyers-division-cocktail-reception/
LOCATION:Greenwich Street Tavern\, 399 Greenwich Street\, New York\, 10013\, United States
END:VEVENT
BEGIN:VEVENT
DTSTART;TZID=America/New_York:20220511T164500
DTEND;TZID=America/New_York:20220511T180000
DTSTAMP:20260424T112142
CREATED:20220502T181411Z
LAST-MODIFIED:20220514T220029Z
UID:204526-1652287500-1652292000@jewishlawyersguild.org
SUMMARY:Holocaust Remembrance Program
DESCRIPTION:Click here for recording of the 2022 Holocaust Remembrance Program.
URL:http://jewishlawyersguild.org/event/holocaust-remembrance-program/
LOCATION:Supreme Court\, 60 Centre Street\, New York\, NY\, United States
END:VEVENT
BEGIN:VEVENT
DTSTART;TZID=America/New_York:20220222T180000
DTEND;TZID=America/New_York:20220222T180000
DTSTAMP:20260424T112142
CREATED:20220216T021800Z
LAST-MODIFIED:20220216T021800Z
UID:204481-1645552800-1645552800@jewishlawyersguild.org
SUMMARY:"From Murder to Museums: Current Controversies Over Nazi-Looted Art\," Free CLE\, February 22\, 2022\, at 6:00 PM
DESCRIPTION:Murder to Museums Brochure – Jewish Lawyers Guild_DC Rev 2-08-2022 (2) (1) (1)
URL:http://jewishlawyersguild.org/event/from-murder-to-museums-current-controversies-over-nazi-looted-art-free-cle-february-22-2022-at-600-pm/
LOCATION:NY
END:VEVENT
BEGIN:VEVENT
DTSTART;TZID=America/New_York:20211201T180000
DTEND;TZID=America/New_York:20211201T210000
DTSTAMP:20260424T112142
CREATED:20220104T193325Z
LAST-MODIFIED:20220104T194316Z
UID:204460-1638381600-1638392400@jewishlawyersguild.org
SUMMARY:Video of Installation Event
DESCRIPTION:Click here to watch the video the event\nhttps://drive.google.com/file/d/1IWLcqoY-0w2a0NLWXzd_zqDuNJwarf24/view?usp=sharing
URL:http://jewishlawyersguild.org/event/installation/
LOCATION:NY
END:VEVENT
BEGIN:VEVENT
DTSTART;TZID=America/New_York:20211201T180000
DTEND;TZID=America/New_York:20211201T210000
DTSTAMP:20260424T112142
CREATED:20211005T193659Z
LAST-MODIFIED:20211025T222702Z
UID:204442-1638381600-1638392400@jewishlawyersguild.org
SUMMARY:
DESCRIPTION:Invite
URL:http://jewishlawyersguild.org/event/204442/
LOCATION:Tribeca Synagogue\, 49 White Street \, New York \, NY\, United States
END:VEVENT
END:VCALENDAR