BEGIN:VCALENDAR
VERSION:2.0
PRODID:-//Jewish Lawyers Guild - ECPv6.15.20//NONSGML v1.0//EN
CALSCALE:GREGORIAN
METHOD:PUBLISH
X-WR-CALNAME:Jewish Lawyers Guild
X-ORIGINAL-URL:https://jewishlawyersguild.org
X-WR-CALDESC:Events for Jewish Lawyers Guild
REFRESH-INTERVAL;VALUE=DURATION:PT1H
X-Robots-Tag:noindex
X-PUBLISHED-TTL:PT1H
BEGIN:VTIMEZONE
TZID:America/New_York
BEGIN:DAYLIGHT
TZOFFSETFROM:-0500
TZOFFSETTO:-0400
TZNAME:EDT
DTSTART:20200308T070000
END:DAYLIGHT
BEGIN:STANDARD
TZOFFSETFROM:-0400
TZOFFSETTO:-0500
TZNAME:EST
DTSTART:20201101T060000
END:STANDARD
BEGIN:DAYLIGHT
TZOFFSETFROM:-0500
TZOFFSETTO:-0400
TZNAME:EDT
DTSTART:20210314T070000
END:DAYLIGHT
BEGIN:STANDARD
TZOFFSETFROM:-0400
TZOFFSETTO:-0500
TZNAME:EST
DTSTART:20211107T060000
END:STANDARD
BEGIN:DAYLIGHT
TZOFFSETFROM:-0500
TZOFFSETTO:-0400
TZNAME:EDT
DTSTART:20220313T070000
END:DAYLIGHT
BEGIN:STANDARD
TZOFFSETFROM:-0400
TZOFFSETTO:-0500
TZNAME:EST
DTSTART:20221106T060000
END:STANDARD
BEGIN:DAYLIGHT
TZOFFSETFROM:-0500
TZOFFSETTO:-0400
TZNAME:EDT
DTSTART:20230312T070000
END:DAYLIGHT
BEGIN:STANDARD
TZOFFSETFROM:-0400
TZOFFSETTO:-0500
TZNAME:EST
DTSTART:20231105T060000
END:STANDARD
BEGIN:DAYLIGHT
TZOFFSETFROM:-0500
TZOFFSETTO:-0400
TZNAME:EDT
DTSTART:20240310T070000
END:DAYLIGHT
BEGIN:STANDARD
TZOFFSETFROM:-0400
TZOFFSETTO:-0500
TZNAME:EST
DTSTART:20241103T060000
END:STANDARD
BEGIN:DAYLIGHT
TZOFFSETFROM:-0500
TZOFFSETTO:-0400
TZNAME:EDT
DTSTART:20250309T070000
END:DAYLIGHT
BEGIN:STANDARD
TZOFFSETFROM:-0400
TZOFFSETTO:-0500
TZNAME:EST
DTSTART:20251102T060000
END:STANDARD
BEGIN:DAYLIGHT
TZOFFSETFROM:-0500
TZOFFSETTO:-0400
TZNAME:EDT
DTSTART:20260308T070000
END:DAYLIGHT
BEGIN:STANDARD
TZOFFSETFROM:-0400
TZOFFSETTO:-0500
TZNAME:EST
DTSTART:20261101T060000
END:STANDARD
END:VTIMEZONE
BEGIN:VEVENT
DTSTART;TZID=America/New_York:20251123T170000
DTEND;TZID=America/New_York:20251123T200000
DTSTAMP:20260423T161938
CREATED:20251105T160206Z
LAST-MODIFIED:20251105T160206Z
UID:205785-1763917200-1763928000@jewishlawyersguild.org
SUMMARY:Honorable Mr. Morgenthau Screening
DESCRIPTION:About the film
URL:http://jewishlawyersguild.org/event/honorable-mr-morgenthau-screening/
LOCATION:Congregation Kehilath Jeshurun\, 125 East 85th Street\, New York\, NY\, United States
END:VEVENT
BEGIN:VEVENT
DTSTART;TZID=America/New_York:20250430T124500
DTEND;TZID=America/New_York:20250430T124500
DTSTAMP:20260423T161938
CREATED:20250403T175555Z
LAST-MODIFIED:20250403T175724Z
UID:205739-1746017100-1746017100@jewishlawyersguild.org
SUMMARY:Justice\, Justice Thou Shalt Pursue: The Legacy of U.S. Supreme Court Justice Ruth Bader Ginsburg
DESCRIPTION:To register\, please email Yanira Gomez: ygomez@nycourts.gov
URL:http://jewishlawyersguild.org/event/justice-justice-thou-shalt-pursue-the-legacy-of-u-s-supreme-court-justice-ruth-bader-ginsburg/
LOCATION:Appelate Division\, Second Department\, 45 Monroe Place\, Brooklyn\, NY\, 11201\, United States
END:VEVENT
BEGIN:VEVENT
DTSTART;TZID=America/New_York:20250429T171500
DTEND;TZID=America/New_York:20250429T193000
DTSTAMP:20260423T161938
CREATED:20250409T125740Z
LAST-MODIFIED:20250409T125740Z
UID:205744-1745946900-1745955000@jewishlawyersguild.org
SUMMARY:Intro to Practice in NY Supreme Court & NY Civil Court - Career Fair
DESCRIPTION:
URL:http://jewishlawyersguild.org/event/intro-to-practice-in-ny-supreme-court-ny-civil-court-career-fair/
LOCATION:NEW YORK CITY CIVIL COURT\, 111 Centre Street\, New York\, United States
END:VEVENT
BEGIN:VEVENT
DTSTART;TZID=America/New_York:20250424T164500
DTEND;TZID=America/New_York:20250424T164500
DTSTAMP:20260423T161938
CREATED:20250213T185742Z
LAST-MODIFIED:20250311T195558Z
UID:205717-1745513100-1745513100@jewishlawyersguild.org
SUMMARY:Holocaust Remembrance Program - 2025
DESCRIPTION:
URL:http://jewishlawyersguild.org/event/holocaust-remembrance-program-2025/
LOCATION:60 Centre Street\, 60 Centre Street\, New York
END:VEVENT
BEGIN:VEVENT
DTSTART;TZID=America/New_York:20250422T173000
DTEND;TZID=America/New_York:20250422T173000
DTSTAMP:20260423T161938
CREATED:20250409T135636Z
LAST-MODIFIED:20250409T135636Z
UID:205753-1745343000-1745343000@jewishlawyersguild.org
SUMMARY:The Network of Bar Leaders - Award and Dinner Reception
DESCRIPTION:
URL:http://jewishlawyersguild.org/event/the-network-of-bar-leaders-award-and-dinner-reception/
LOCATION:The Harvard Club\, 35 West 44th St.\, New York\, NY\, 10036\, United States
END:VEVENT
BEGIN:VEVENT
DTSTART;TZID=America/New_York:20250401T180000
DTEND;TZID=America/New_York:20250401T220000
DTSTAMP:20260423T161938
CREATED:20241213T160359Z
LAST-MODIFIED:20250131T171725Z
UID:205688-1743530400-1743544800@jewishlawyersguild.org
SUMMARY:46th Annual Gala
DESCRIPTION:
URL:http://jewishlawyersguild.org/event/46th-annual-gala/
LOCATION:Metropolitan Pavillion\, 125 W. 18th St.\, New York\, NY\, 10011\, United States
END:VEVENT
BEGIN:VEVENT
DTSTART;TZID=America/New_York:20241217T180000
DTEND;TZID=America/New_York:20241217T220000
DTSTAMP:20260423T161938
CREATED:20240925T004230Z
LAST-MODIFIED:20241114T182518Z
UID:205631-1734458400-1734472800@jewishlawyersguild.org
SUMMARY:Chanukah Party & Retirement Celebration
DESCRIPTION:Annual Chanukah party & Retirement Celebration for Hon. Jeffrey K. Oing\, Associate Justice of the Appellate Division\, First Department\, member of our Board of Governors and past recipient of our Golda Meir Memorial Award \nDONATIONS \nWe encourage those who are able to donate to the Ohel Toy Registry: \nhttps://www.amazon.com/registries/gl/guest-view/2EGXROIWAXNM3 \nTICKETS \nAdmission is free for all paid members of the JLG. \nSponsorship\, which includes 4 tickets and a virtual ad\, is $1\,500. \nThe fee for non-members is $120. \nMEMBERSHIP \nTo pay your membership online\, visit https://jewishlawyersguild.org/membership/ \nYou can also pay by sending a check made payable to The Jewish Lawyers Guild to the address below. \nMailing address: \nShafer Partners\, LLP \n125 Maiden Lane\, Suite 16-A \nNew York\, NY 10038
URL:http://jewishlawyersguild.org/event/chanukah-party-2/
LOCATION:60 Centre Street\, 60 Centre Street\, New York
END:VEVENT
BEGIN:VEVENT
DTSTART;TZID=America/New_York:20241030T180000
DTEND;TZID=America/New_York:20241030T200000
DTSTAMP:20260423T161938
CREATED:20241015T130525Z
LAST-MODIFIED:20241015T130525Z
UID:205639-1730311200-1730318400@jewishlawyersguild.org
SUMMARY:Jewish Lawyers Guild and NYWBA Present a Joint CLE Program:  Are You Married? Civil and Religious Ceremonies
DESCRIPTION: *CLE Credits:  1 professional practice credit. The New York Women’s Bar Association is an accredited CLE provider. Approval of CLE credit is pending in accordance with the requirements of the New York State CLE Board for the above-listed credit hours for experienced attorneys (those admitted to the New York Bar for more than 2 years) and as transitional credit hours for newly admitted attorneys. Please be advised that\, in accordance with the New York State CLE Board Regulations and Guidance\, while newly admitted attorneys are encouraged to participate in diversity programs\, only experienced attorneys may earn credit in the Diversity\, Inclusion and Elimination of Bias category of CLE credit. \n** Free NYWBA and WBASNY members\, $25\, non-member: Full and partial scholarships based on financial need are available. For info on the guidelines and to apply\, contact Executive Director\, Sarah Kuhns at ed@nywba.org or CLE Co-Chair Amy Goldsmith at cle@nywba.org.
URL:http://jewishlawyersguild.org/event/jewish-lawyers-guild-and-nywba-present-a-joint-cle-program-are-you-married-civil-and-religious-ceremonies/
LOCATION:BlankRome Time-Life Building\, 1271 6th Avenue\, New York\, NY\, 10020\, United States
END:VEVENT
BEGIN:VEVENT
DTSTART;TZID=America/New_York:20241022T180000
DTEND;TZID=America/New_York:20241022T220000
DTSTAMP:20260423T161938
CREATED:20240925T004120Z
LAST-MODIFIED:20241015T002307Z
UID:205629-1729620000-1729634400@jewishlawyersguild.org
SUMMARY:Sukkot Party
DESCRIPTION:Admission is free for all paid members of the JLG. \nThe fee for non-members is $120. \nSukkot marks the time for payment of annual JLG dues\, which can be paid via our website: www.jewishlawyersguild.org or by sending a check made payable to The Jewish Lawyers Guild to the address below: \nMailing address: \nShafer Partners\, LLP \n125 Maiden Lane\, Suite 16-A \nNew York\, NY 10038
URL:http://jewishlawyersguild.org/event/sukkot-party/
LOCATION:Tribeca Synagogue\, 49 White Street \, New York \, NY\, United States
END:VEVENT
BEGIN:VEVENT
DTSTART;TZID=America/New_York:20240926T170000
DTEND;TZID=America/New_York:20240926T203000
DTSTAMP:20260423T161938
CREATED:20240925T003126Z
LAST-MODIFIED:20240925T003126Z
UID:205622-1727370000-1727382600@jewishlawyersguild.org
SUMMARY:Happy Hour - September 2024
DESCRIPTION:
URL:http://jewishlawyersguild.org/event/happy-hour-september-2024/
LOCATION:Slattery’s Pub\, 8 East 36th St\, New York\, NY
END:VEVENT
BEGIN:VEVENT
DTSTART;TZID=America/New_York:20240606T190000
DTEND;TZID=America/New_York:20240606T223000
DTSTAMP:20260423T161938
CREATED:20240604T173710Z
LAST-MODIFIED:20240604T173945Z
UID:205617-1717700400-1717713000@jewishlawyersguild.org
SUMMARY:Happy Hour - June 2024
DESCRIPTION:
URL:http://jewishlawyersguild.org/event/205617/
LOCATION:Slattery’s Pub\, 8 East 36th St\, New York\, NY
END:VEVENT
BEGIN:VEVENT
DTSTART;TZID=America/New_York:20240410T180000
DTEND;TZID=America/New_York:20240410T210000
DTSTAMP:20260423T161938
CREATED:20240125T161459Z
LAST-MODIFIED:20240228T152653Z
UID:205536-1712772000-1712782800@jewishlawyersguild.org
SUMMARY:45th Annual Gala
DESCRIPTION:Checks may be sent to:\nJLG c/o Lisa Zeiderman\, Esq.\,\n140 Grand Street\, 5th Floor\nWhite Plains\, NY 10601 \nTicket Prices\nIndividual Ticket……………………………………$300\nIndividual Ticket (Judicial Discount)………..……….$250\nGala Sponsor (includes 2 tickets)…………………$2\,500\nGold Partner (includes 10 tickets)………………..$5\,000\nSilver Partner (includes 10 tickets)………………$4\,000\nBronze Partner (includes 10 tickets)…………….$3\,000 \nContact\nemail: jlgdinner@mzw-law.com\nTelephone: 212.769.3500
URL:http://jewishlawyersguild.org/event/45th-annual-gala/
LOCATION:Metropolitan Pavillion\, 125 W. 18th St.\, New York\, NY\, 10011\, United States
END:VEVENT
BEGIN:VEVENT
DTSTART;TZID=America/New_York:20240306T170000
DTEND;TZID=America/New_York:20240306T203000
DTSTAMP:20260423T161938
CREATED:20240125T155728Z
LAST-MODIFIED:20240126T184137Z
UID:205532-1709744400-1709757000@jewishlawyersguild.org
SUMMARY:Happy Hour
DESCRIPTION:Click here to RSVP
URL:http://jewishlawyersguild.org/event/happy-hour/
LOCATION:Bar 9\, 807 9th Avenue\, New York\, NY\, 10019\, United States
END:VEVENT
BEGIN:VEVENT
DTSTART;TZID=America/New_York:20230622T180000
DTEND;TZID=America/New_York:20230622T210000
DTSTAMP:20260423T161938
CREATED:20230420T024206Z
LAST-MODIFIED:20230509T011243Z
UID:205309-1687456800-1687467600@jewishlawyersguild.org
SUMMARY:44th Annual Gala Cocktail Reception and Awards Presentation
DESCRIPTION:Click here for more information and to RSVP
URL:http://jewishlawyersguild.org/event/44th-annual-gala-cocktail-reception-and-awards-presentation/
LOCATION:NY
END:VEVENT
BEGIN:VEVENT
DTSTART;TZID=America/New_York:20230615T183000
DTEND;TZID=America/New_York:20230615T203000
DTSTAMP:20260423T161938
CREATED:20230519T013635Z
LAST-MODIFIED:20230519T013635Z
UID:205322-1686853800-1686861000@jewishlawyersguild.org
SUMMARY:Debating Ethics Standards for United States Supreme Court Justices
DESCRIPTION:Format: WEBINAR\n\nProgram Fees:  Free for Members | $15 Non-Member Attorneys\nClick here for more info and to register. \nPlease Note: A final confirmation containing the Zoom link and Access Code to join the event will be sent to ALL registrants 2 hours prior to the start of the event. \nDescription:\nThe ethics standards for the United States Supreme Court have drawn renewed focus in recent months due to a wave of reporting on alleged ethical lapses of some of its members. This reporting was an impetus for an February 2023 American Bar Association resolution calling on the United States Supreme Court to adopt a binding ethics code\, a call that has been echoed by former members of the federal judiciary and editorial boards around the country. This reporting has also spurred debate on federal legislation requiring the court to adopt a code of conduct. The calls for reform are clear\, but raise a host of complex issues that this panel of experts on judicial ethics\, professional responsibility\, and constitutional law will debate. The panel will discuss existing ethics rules\, the efficacy of a binding ethics code\, including possible enforcement mechanisms\, separation of powers concerns\, and more. For informational purposes only\, the program will also include polling of the audience on these important topics. \nSpeakers:\nAlicia Bannon\, Director\, Judiciary Program\, Brennan Center for Justice\nHon. Nancy Gertner\, Judge\, U.S. D.Mass. (Ret.)\, Senior Lecturer\, Harvard Law School\nStephen Gillers\, Elihu Root Professor of Law\, New York University School of Law\nThomas Morgan\, Professor Emeritus\, The George Washington University School of Law\nRussell Wheeler\, Non-resident Senior Fellow\, Governance Studies\, Brookings Institution \nModerator: \nMichael Cardozo\, Proskauer Rose LLP Partner (Ret.)\, Former New York City Bar Association President\, and Former New York City Corporation Counsel
URL:http://jewishlawyersguild.org/event/debating-ethics-standards-for-united-states-supreme-court-justices/
LOCATION:NY
END:VEVENT
BEGIN:VEVENT
DTSTART;TZID=America/New_York:20230604T110000
DTEND;TZID=America/New_York:20230604T160000
DTSTAMP:20260423T161938
CREATED:20230519T013237Z
LAST-MODIFIED:20230519T013237Z
UID:205319-1685876400-1685894400@jewishlawyersguild.org
SUMMARY:Celebrate Israel Parade
DESCRIPTION:The JLG will be marching with the New York State Court Officers Shomrei Tzadik Society.
URL:http://jewishlawyersguild.org/event/celebrate-israel-parade/
LOCATION:NY
END:VEVENT
BEGIN:VEVENT
DTSTART;TZID=America/New_York:20230425T164500
DTEND;TZID=America/New_York:20230425T164500
DTSTAMP:20260423T161938
CREATED:20230310T183536Z
LAST-MODIFIED:20230310T183536Z
UID:205304-1682441100-1682441100@jewishlawyersguild.org
SUMMARY:Holocaust Remembrance Program
DESCRIPTION:
URL:http://jewishlawyersguild.org/event/holocaust-remembrance-program-2/
LOCATION:NY
END:VEVENT
BEGIN:VEVENT
DTSTART;TZID=America/New_York:20221207T180000
DTEND;TZID=America/New_York:20221207T200000
DTSTAMP:20260423T161938
CREATED:20221120T011723Z
LAST-MODIFIED:20221123T210925Z
UID:205247-1670436000-1670443200@jewishlawyersguild.org
SUMMARY:Hanukkah Party
DESCRIPTION:The JLG Invites You to Its Hanukkah Party hosted by the Young Lawyers Division\nWe invite you to join JLG Officers\, Directors\, Members\, Young Lawyers\, and friends for an evening of Hanukkah celebration! We’ll be enjoying delicious food\, Latkes\, Hanukkah donuts\, and a full open bar. Kosher appetizers and kosher wine will be available. Please RSVP below to let us know you are coming!\n\n\nSlattery’s Pub\n8 E. 36th St\, New York\, NY 10016\nWednesday\, December 7\, 2022\, 6:00 – 8:00 p.m. \nCost:\n• $30 for all members\n• $40 for non-members\n• Payments will also be taken at the door \n\n\n\n\n\n\n\nHanukkah Party \n(Member Ticket) \n$30.00 \nBuy now \n\n\n\n\n\n\nHanukkah Party \n(Non-Member Ticket) \n$40.00 \nBuy now \n\n\n\n\n\n\nTo join the JLG or renew your membership\, click here. \n\nThe JLG has teamed with OHEL and encourages you to click on its link to to purchase gifts for less fortunate children and adults this Hanukkah.
URL:http://jewishlawyersguild.org/event/hanukkah-party/
LOCATION:NY
END:VEVENT
BEGIN:VEVENT
DTSTART;TZID=America/New_York:20221013T180000
DTEND;TZID=America/New_York:20221013T210000
DTSTAMP:20260423T161938
CREATED:20220916T200848Z
LAST-MODIFIED:20221003T170925Z
UID:205081-1665684000-1665694800@jewishlawyersguild.org
SUMMARY:Succoth Party 
DESCRIPTION:Succoth Party\nThursday\, October 13\, 2022\, 6:00 p.m.\nTribeca Synagogue\n(outside on the plaza)\n49 White Street\, NY\, NY 10013\n\nAdmission is free for all paid members of the JLG.\n\nThe admission fee for non-members is $140. \nTo join the JLG or renew your membership\, click here. \nCLICK HERE to RSVP. \n\nTo become a Sponsor of this event\, click here.
URL:http://jewishlawyersguild.org/event/succoth-party/
LOCATION:Tribeca Synagogue\, 49 White Street \, New York \, NY\, United States
END:VEVENT
BEGIN:VEVENT
DTSTART;VALUE=DATE:20221002
DTEND;VALUE=DATE:20221003
DTSTAMP:20260423T161938
CREATED:20220916T200611Z
LAST-MODIFIED:20220916T200611Z
UID:205075-1664668800-1664755199@jewishlawyersguild.org
SUMMARY:More Than Pink Walk
DESCRIPTION:Join JLG & Team JALBCA\nFor many years JLG has participated with JALBCA in the Race for the Cure.  This year is the MORE THAN PINK WALK in Prospect Park on Sunday\, October 2\, 2022.  Join Past-President Bruce Lederman\, JLG President Ronald J. Katter\, Vice President Alyssa N. Grzesh and Board member Peter Tipograph on Team JALBCA for this year’s Race to support this great cause.  Click here for more information and to register.
URL:http://jewishlawyersguild.org/event/more-than-pink-walk/
LOCATION:NY
END:VEVENT
BEGIN:VEVENT
DTSTART;TZID=America/New_York:20220811T180000
DTEND;TZID=America/New_York:20220811T200000
DTSTAMP:20260423T161938
CREATED:20220721T172026Z
LAST-MODIFIED:20220730T205534Z
UID:204998-1660240800-1660248000@jewishlawyersguild.org
SUMMARY:Young Lawyers Division Cocktail Reception
DESCRIPTION:The JLG Invites You to Its Young Lawyers Division Inaugural Cocktail Reception\nMeet other Young Lawyers\, JLG Officers\, Directors\, members and prospective members at this cocktail reception. Includes appetizers and open bar of Beer\, Wine\, Sangria\, White Claw & House Liquor.  Kosher appetizers and kosher wine will be available. \nGreenwich St. Tavern\n399 Greenwich Street\, New York\, NY\nThursday\, August 11\, 2022\, 6:00 – 8:00 p.m. \nCost:\n• $45 for junior attorneys (admitted for 5 years or less) includes attendance at the reception and yearly membership to the JLG. CLICK HERE to register.\n• $20 for students\, includes attendance at the reception and yearly membership to the JLG. CLICK HERE to register.\n• $25 for all other active JLG members. CLICK HERE to register.\n• Payments will also be taken at the door. \n 
URL:http://jewishlawyersguild.org/event/young-lawyers-division-cocktail-reception/
LOCATION:Greenwich Street Tavern\, 399 Greenwich Street\, New York\, 10013\, United States
END:VEVENT
BEGIN:VEVENT
DTSTART;TZID=America/New_York:20220511T164500
DTEND;TZID=America/New_York:20220511T180000
DTSTAMP:20260423T161938
CREATED:20220502T181411Z
LAST-MODIFIED:20220514T220029Z
UID:204526-1652287500-1652292000@jewishlawyersguild.org
SUMMARY:Holocaust Remembrance Program
DESCRIPTION:Click here for recording of the 2022 Holocaust Remembrance Program.
URL:http://jewishlawyersguild.org/event/holocaust-remembrance-program/
LOCATION:Supreme Court\, 60 Centre Street\, New York\, NY\, United States
END:VEVENT
BEGIN:VEVENT
DTSTART;TZID=America/New_York:20220222T180000
DTEND;TZID=America/New_York:20220222T180000
DTSTAMP:20260423T161938
CREATED:20220216T021800Z
LAST-MODIFIED:20220216T021800Z
UID:204481-1645552800-1645552800@jewishlawyersguild.org
SUMMARY:"From Murder to Museums: Current Controversies Over Nazi-Looted Art\," Free CLE\, February 22\, 2022\, at 6:00 PM
DESCRIPTION:Murder to Museums Brochure – Jewish Lawyers Guild_DC Rev 2-08-2022 (2) (1) (1)
URL:http://jewishlawyersguild.org/event/from-murder-to-museums-current-controversies-over-nazi-looted-art-free-cle-february-22-2022-at-600-pm/
LOCATION:NY
END:VEVENT
BEGIN:VEVENT
DTSTART;TZID=America/New_York:20211201T180000
DTEND;TZID=America/New_York:20211201T210000
DTSTAMP:20260423T161938
CREATED:20220104T193325Z
LAST-MODIFIED:20220104T194316Z
UID:204460-1638381600-1638392400@jewishlawyersguild.org
SUMMARY:Video of Installation Event
DESCRIPTION:Click here to watch the video the event\nhttps://drive.google.com/file/d/1IWLcqoY-0w2a0NLWXzd_zqDuNJwarf24/view?usp=sharing
URL:http://jewishlawyersguild.org/event/installation/
LOCATION:NY
END:VEVENT
BEGIN:VEVENT
DTSTART;TZID=America/New_York:20211201T180000
DTEND;TZID=America/New_York:20211201T210000
DTSTAMP:20260423T161938
CREATED:20211005T193659Z
LAST-MODIFIED:20211025T222702Z
UID:204442-1638381600-1638392400@jewishlawyersguild.org
SUMMARY:
DESCRIPTION:Invite
URL:http://jewishlawyersguild.org/event/204442/
LOCATION:Tribeca Synagogue\, 49 White Street \, New York \, NY\, United States
END:VEVENT
END:VCALENDAR