BEGIN:VCALENDAR
VERSION:2.0
PRODID:-//Jewish Lawyers Guild - ECPv6.15.20//NONSGML v1.0//EN
CALSCALE:GREGORIAN
METHOD:PUBLISH
X-ORIGINAL-URL:https://jewishlawyersguild.org
X-WR-CALDESC:Events for Jewish Lawyers Guild
REFRESH-INTERVAL;VALUE=DURATION:PT1H
X-Robots-Tag:noindex
X-PUBLISHED-TTL:PT1H
BEGIN:VTIMEZONE
TZID:America/New_York
BEGIN:DAYLIGHT
TZOFFSETFROM:-0500
TZOFFSETTO:-0400
TZNAME:EDT
DTSTART:20250309T070000
END:DAYLIGHT
BEGIN:STANDARD
TZOFFSETFROM:-0400
TZOFFSETTO:-0500
TZNAME:EST
DTSTART:20251102T060000
END:STANDARD
BEGIN:DAYLIGHT
TZOFFSETFROM:-0500
TZOFFSETTO:-0400
TZNAME:EDT
DTSTART:20260308T070000
END:DAYLIGHT
BEGIN:STANDARD
TZOFFSETFROM:-0400
TZOFFSETTO:-0500
TZNAME:EST
DTSTART:20261101T060000
END:STANDARD
BEGIN:DAYLIGHT
TZOFFSETFROM:-0500
TZOFFSETTO:-0400
TZNAME:EDT
DTSTART:20270314T070000
END:DAYLIGHT
BEGIN:STANDARD
TZOFFSETFROM:-0400
TZOFFSETTO:-0500
TZNAME:EST
DTSTART:20271107T060000
END:STANDARD
END:VTIMEZONE
BEGIN:VEVENT
DTSTART;TZID=America/New_York:20260311T183000
DTEND;TZID=America/New_York:20260311T210000
DTSTAMP:20260423T162122
CREATED:20260223T153055Z
LAST-MODIFIED:20260223T153055Z
UID:205869-1773253800-1773262800@jewishlawyersguild.org
SUMMARY:JLG Networking Happy Hour
DESCRIPTION:
URL:http://jewishlawyersguild.org/event/jlg-networking-happy-hour/
LOCATION:Slattery’s Pub\, 8 East 36th St\, New York\, NY
END:VEVENT
BEGIN:VEVENT
DTSTART;TZID=America/New_York:20260324T180000
DTEND;TZID=America/New_York:20260324T220000
DTSTAMP:20260423T162122
CREATED:20251028T193630Z
LAST-MODIFIED:20260129T195207Z
UID:205778-1774375200-1774389600@jewishlawyersguild.org
SUMMARY:JLG 47th Annual Gala
DESCRIPTION:
URL:http://jewishlawyersguild.org/event/jlg-47th-annual-gala/
LOCATION:Metropolitan Pavillion\, 125 W. 18th St.\, New York\, NY\, 10011\, United States
END:VEVENT
BEGIN:VEVENT
DTSTART;TZID=America/New_York:20260414T164500
DTEND;TZID=America/New_York:20260414T183000
DTSTAMP:20260423T162122
CREATED:20260210T000618Z
LAST-MODIFIED:20260223T180228Z
UID:205866-1776185100-1776191400@jewishlawyersguild.org
SUMMARY:Holocaust Remembrance Program
DESCRIPTION:
URL:http://jewishlawyersguild.org/event/holocaust-remembrance-program-3/
LOCATION:60 Centre Street\, 60 Centre Street\, New York
END:VEVENT
END:VCALENDAR